BEGIN:VCALENDAR
VERSION:2.0
PRODID:-//Habitat for Humanity - ECPv6.15.20//NONSGML v1.0//EN
CALSCALE:GREGORIAN
METHOD:PUBLISH
X-ORIGINAL-URL:https://habitatmclean.org
X-WR-CALDESC:Events for Habitat for Humanity
REFRESH-INTERVAL;VALUE=DURATION:PT1H
X-Robots-Tag:noindex
X-PUBLISHED-TTL:PT1H
BEGIN:VTIMEZONE
TZID:America/Chicago
BEGIN:DAYLIGHT
TZOFFSETFROM:-0600
TZOFFSETTO:-0500
TZNAME:CDT
DTSTART:20230312T080000
END:DAYLIGHT
BEGIN:STANDARD
TZOFFSETFROM:-0500
TZOFFSETTO:-0600
TZNAME:CST
DTSTART:20231105T070000
END:STANDARD
BEGIN:DAYLIGHT
TZOFFSETFROM:-0600
TZOFFSETTO:-0500
TZNAME:CDT
DTSTART:20240310T080000
END:DAYLIGHT
BEGIN:STANDARD
TZOFFSETFROM:-0500
TZOFFSETTO:-0600
TZNAME:CST
DTSTART:20241103T070000
END:STANDARD
BEGIN:DAYLIGHT
TZOFFSETFROM:-0600
TZOFFSETTO:-0500
TZNAME:CDT
DTSTART:20250309T080000
END:DAYLIGHT
BEGIN:STANDARD
TZOFFSETFROM:-0500
TZOFFSETTO:-0600
TZNAME:CST
DTSTART:20251102T070000
END:STANDARD
END:VTIMEZONE
BEGIN:VEVENT
DTSTART;TZID=America/Chicago:20240321T170000
DTEND;TZID=America/Chicago:20240321T190000
DTSTAMP:20260425T130758
CREATED:20240215T160319Z
LAST-MODIFIED:20240223T141637Z
UID:10000015-1711040400-1711047600@habitatmclean.org
SUMMARY:Women Build Celebrity Bartending
DESCRIPTION:Come watch the first round of March Madness! Shari Andresen and your favorite Women Build celebrities will be bartending at The Pass (2303 E Washington St) on Thursday\, March 21st from 5-7pm. There will be two 50/50 raffles (one at 6pm and the second at 7pm) benefitting Women Build.
URL:https://habitatmclean.org/event/women-build-celebrity-bartending/
LOCATION:The Pass\, 2303 E Washington St\, Bloomington\, IL\, 61704\, United States
ATTACH;FMTTYPE=image/png:https://habitatmclean.org/wp-content/uploads/2024/02/Women-Build-March-Madness-Celebrity-Bartending.png
END:VEVENT
END:VCALENDAR