BEGIN:VCALENDAR
VERSION:2.0
PRODID:-//Habitat for Humanity - ECPv6.15.20//NONSGML v1.0//EN
CALSCALE:GREGORIAN
METHOD:PUBLISH
X-ORIGINAL-URL:https://habitatmclean.org
X-WR-CALDESC:Events for Habitat for Humanity
REFRESH-INTERVAL;VALUE=DURATION:PT1H
X-Robots-Tag:noindex
X-PUBLISHED-TTL:PT1H
BEGIN:VTIMEZONE
TZID:America/Chicago
BEGIN:DAYLIGHT
TZOFFSETFROM:-0600
TZOFFSETTO:-0500
TZNAME:CDT
DTSTART:20230312T080000
END:DAYLIGHT
BEGIN:STANDARD
TZOFFSETFROM:-0500
TZOFFSETTO:-0600
TZNAME:CST
DTSTART:20231105T070000
END:STANDARD
BEGIN:DAYLIGHT
TZOFFSETFROM:-0600
TZOFFSETTO:-0500
TZNAME:CDT
DTSTART:20240310T080000
END:DAYLIGHT
BEGIN:STANDARD
TZOFFSETFROM:-0500
TZOFFSETTO:-0600
TZNAME:CST
DTSTART:20241103T070000
END:STANDARD
BEGIN:DAYLIGHT
TZOFFSETFROM:-0600
TZOFFSETTO:-0500
TZNAME:CDT
DTSTART:20250309T080000
END:DAYLIGHT
BEGIN:STANDARD
TZOFFSETFROM:-0500
TZOFFSETTO:-0600
TZNAME:CST
DTSTART:20251102T070000
END:STANDARD
END:VTIMEZONE
BEGIN:VEVENT
DTSTART;VALUE=DATE:20241114
DTEND;VALUE=DATE:20241115
DTSTAMP:20260425T072853
CREATED:20240215T160933Z
LAST-MODIFIED:20241002T194211Z
UID:10000016-1731542400-1731628799@habitatmclean.org
SUMMARY:Women Build Bunco Blitz
DESCRIPTION:Women Build’s Bunco Blitz is returning for 2024. Keep your calendar open on November 14th for a night of food\, fun\, and BUNCO!  \nCLICK HERE TO PURCHASE TICKETS!
URL:https://habitatmclean.org/event/women-build-bunco-blitz/
LOCATION:DoubleTree\, 10 Brickyard Drive\, Bloomington\, IL\, 61701\, United States
ATTACH;FMTTYPE=image/png:https://habitatmclean.org/wp-content/uploads/2024/03/Screenshot-2024-03-22-103304.png
END:VEVENT
END:VCALENDAR