BEGIN:VCALENDAR
VERSION:2.0
PRODID:-//Habitat for Humanity - ECPv6.15.20//NONSGML v1.0//EN
CALSCALE:GREGORIAN
METHOD:PUBLISH
X-ORIGINAL-URL:https://habitatmclean.org
X-WR-CALDESC:Events for Habitat for Humanity
REFRESH-INTERVAL;VALUE=DURATION:PT1H
X-Robots-Tag:noindex
X-PUBLISHED-TTL:PT1H
BEGIN:VTIMEZONE
TZID:America/Chicago
BEGIN:DAYLIGHT
TZOFFSETFROM:-0600
TZOFFSETTO:-0500
TZNAME:CDT
DTSTART:20240310T080000
END:DAYLIGHT
BEGIN:STANDARD
TZOFFSETFROM:-0500
TZOFFSETTO:-0600
TZNAME:CST
DTSTART:20241103T070000
END:STANDARD
BEGIN:DAYLIGHT
TZOFFSETFROM:-0600
TZOFFSETTO:-0500
TZNAME:CDT
DTSTART:20250309T080000
END:DAYLIGHT
BEGIN:STANDARD
TZOFFSETFROM:-0500
TZOFFSETTO:-0600
TZNAME:CST
DTSTART:20251102T070000
END:STANDARD
BEGIN:DAYLIGHT
TZOFFSETFROM:-0600
TZOFFSETTO:-0500
TZNAME:CDT
DTSTART:20260308T080000
END:DAYLIGHT
BEGIN:STANDARD
TZOFFSETFROM:-0500
TZOFFSETTO:-0600
TZNAME:CST
DTSTART:20261101T070000
END:STANDARD
END:VTIMEZONE
BEGIN:VEVENT
DTSTART;TZID=America/Chicago:20250614T110000
DTEND;TZID=America/Chicago:20250614T170000
DTSTAMP:20260425T112619
CREATED:20250317T154608Z
LAST-MODIFIED:20250319T205502Z
UID:10000031-1749898800-1749920400@habitatmclean.org
SUMMARY:Donny B's Fundraiser for Women Build
DESCRIPTION:Donny B’s Gourmet Popcorn and Gifts will be hosting a fundraiser for Women Build. Be sure to get your POP some POPCORN in time for Father’s Day!
URL:https://habitatmclean.org/event/donny-bs-fundraiser-for-women-build/
LOCATION:Donny B’s Popcorn & Gifts\, 1220 Towanda Ave\, Bloomington\, IL\, 61701\, United States
CATEGORIES:events
ATTACH;FMTTYPE=image/png:https://habitatmclean.org/wp-content/uploads/2025/03/DonnyB.png
END:VEVENT
END:VCALENDAR