BEGIN:VCALENDAR
VERSION:2.0
PRODID:-//Habitat for Humanity - ECPv6.15.20//NONSGML v1.0//EN
CALSCALE:GREGORIAN
METHOD:PUBLISH
X-ORIGINAL-URL:https://habitatmclean.org
X-WR-CALDESC:Events for Habitat for Humanity
REFRESH-INTERVAL;VALUE=DURATION:PT1H
X-Robots-Tag:noindex
X-PUBLISHED-TTL:PT1H
BEGIN:VTIMEZONE
TZID:America/Chicago
BEGIN:DAYLIGHT
TZOFFSETFROM:-0600
TZOFFSETTO:-0500
TZNAME:CDT
DTSTART:20230312T080000
END:DAYLIGHT
BEGIN:STANDARD
TZOFFSETFROM:-0500
TZOFFSETTO:-0600
TZNAME:CST
DTSTART:20231105T070000
END:STANDARD
BEGIN:DAYLIGHT
TZOFFSETFROM:-0600
TZOFFSETTO:-0500
TZNAME:CDT
DTSTART:20240310T080000
END:DAYLIGHT
BEGIN:STANDARD
TZOFFSETFROM:-0500
TZOFFSETTO:-0600
TZNAME:CST
DTSTART:20241103T070000
END:STANDARD
BEGIN:DAYLIGHT
TZOFFSETFROM:-0600
TZOFFSETTO:-0500
TZNAME:CDT
DTSTART:20250309T080000
END:DAYLIGHT
BEGIN:STANDARD
TZOFFSETFROM:-0500
TZOFFSETTO:-0600
TZNAME:CST
DTSTART:20251102T070000
END:STANDARD
END:VTIMEZONE
BEGIN:VEVENT
DTSTART;VALUE=DATE:20240423
DTEND;VALUE=DATE:20240424
DTSTAMP:20260425T110328
CREATED:20240308T210519Z
LAST-MODIFIED:20240308T210716Z
UID:10000017-1713830400-1713916799@habitatmclean.org
SUMMARY:Bobzbay Profit Share Day
DESCRIPTION:WORLD BOOK DAY \nShop for a good cause at Bobzbay Books on Tuesday\, April 23rd and help raise money to support Habitat for Humanity of McLean County! $1 of every $10 spent at Bobzbay Books (in-store or online) on Tuesday\, April 23rd will be donated to support our mission! Can’t make it in store but still want to support? Online purchases made on 4/23 qualify for the profit share too…and they ship!
URL:https://habitatmclean.org/event/bobzbay-profit-share-day/
LOCATION:Bobzbay\, 419 N Main St\, Bloomington\, IL\, 61701\, United States
ATTACH;FMTTYPE=image/jpeg:https://habitatmclean.org/wp-content/uploads/2024/03/27.jpg
END:VEVENT
END:VCALENDAR