BEGIN:VCALENDAR
VERSION:2.0
PRODID:-//Habitat for Humanity - ECPv6.15.20//NONSGML v1.0//EN
CALSCALE:GREGORIAN
METHOD:PUBLISH
X-WR-CALNAME:Habitat for Humanity
X-ORIGINAL-URL:https://habitatmclean.org
X-WR-CALDESC:Events for Habitat for Humanity
REFRESH-INTERVAL;VALUE=DURATION:PT1H
X-Robots-Tag:noindex
X-PUBLISHED-TTL:PT1H
BEGIN:VTIMEZONE
TZID:America/Chicago
BEGIN:DAYLIGHT
TZOFFSETFROM:-0600
TZOFFSETTO:-0500
TZNAME:CDT
DTSTART:20230312T080000
END:DAYLIGHT
BEGIN:STANDARD
TZOFFSETFROM:-0500
TZOFFSETTO:-0600
TZNAME:CST
DTSTART:20231105T070000
END:STANDARD
BEGIN:DAYLIGHT
TZOFFSETFROM:-0600
TZOFFSETTO:-0500
TZNAME:CDT
DTSTART:20240310T080000
END:DAYLIGHT
BEGIN:STANDARD
TZOFFSETFROM:-0500
TZOFFSETTO:-0600
TZNAME:CST
DTSTART:20241103T070000
END:STANDARD
BEGIN:DAYLIGHT
TZOFFSETFROM:-0600
TZOFFSETTO:-0500
TZNAME:CDT
DTSTART:20250309T080000
END:DAYLIGHT
BEGIN:STANDARD
TZOFFSETFROM:-0500
TZOFFSETTO:-0600
TZNAME:CST
DTSTART:20251102T070000
END:STANDARD
END:VTIMEZONE
BEGIN:VEVENT
DTSTART;TZID=America/Chicago:20240504T130000
DTEND;TZID=America/Chicago:20240504T140000
DTSTAMP:20260425T143710
CREATED:20240429T183728Z
LAST-MODIFIED:20240429T183801Z
UID:10000019-1714827600-1714831200@habitatmclean.org
SUMMARY:Wilson Family House Blessing
DESCRIPTION:Please join the Wilson Family\, Heroes of Habitat\, volunteers\, sponsors\, and more as we celebrate the House Blessing at 703 W Locust St on Saturday\, May 4th at 1pm.
URL:https://habitatmclean.org/event/wilson-family-house-blessing/
LOCATION:703 W Locust St\, 703 W Locust St\, Bloomington\, IL\, 61701\, United States
ATTACH;FMTTYPE=image/png:https://habitatmclean.org/wp-content/uploads/2024/04/23-24-Family-House-Blessings.png
END:VEVENT
END:VCALENDAR