BEGIN:VCALENDAR
VERSION:2.0
PRODID:-//Habitat for Humanity - ECPv6.15.20//NONSGML v1.0//EN
CALSCALE:GREGORIAN
METHOD:PUBLISH
X-WR-CALNAME:Habitat for Humanity
X-ORIGINAL-URL:https://habitatmclean.org
X-WR-CALDESC:Events for Habitat for Humanity
REFRESH-INTERVAL;VALUE=DURATION:PT1H
X-Robots-Tag:noindex
X-PUBLISHED-TTL:PT1H
BEGIN:VTIMEZONE
TZID:America/Chicago
BEGIN:DAYLIGHT
TZOFFSETFROM:-0600
TZOFFSETTO:-0500
TZNAME:CDT
DTSTART:20230312T080000
END:DAYLIGHT
BEGIN:STANDARD
TZOFFSETFROM:-0500
TZOFFSETTO:-0600
TZNAME:CST
DTSTART:20231105T070000
END:STANDARD
BEGIN:DAYLIGHT
TZOFFSETFROM:-0600
TZOFFSETTO:-0500
TZNAME:CDT
DTSTART:20240310T080000
END:DAYLIGHT
BEGIN:STANDARD
TZOFFSETFROM:-0500
TZOFFSETTO:-0600
TZNAME:CST
DTSTART:20241103T070000
END:STANDARD
BEGIN:DAYLIGHT
TZOFFSETFROM:-0600
TZOFFSETTO:-0500
TZNAME:CDT
DTSTART:20250309T080000
END:DAYLIGHT
BEGIN:STANDARD
TZOFFSETFROM:-0500
TZOFFSETTO:-0600
TZNAME:CST
DTSTART:20251102T070000
END:STANDARD
END:VTIMEZONE
BEGIN:VEVENT
DTSTART;TZID=America/Chicago:20240511T140000
DTEND;TZID=America/Chicago:20240511T150000
DTSTAMP:20260425T104531
CREATED:20240429T185147Z
LAST-MODIFIED:20240429T185147Z
UID:10000022-1715436000-1715439600@habitatmclean.org
SUMMARY:Kasongo Family House Blessing
DESCRIPTION:Please join the Dabney Family\, Wesley United Methodist Church (Bill McConnell Memorial Build)\, volunteers\, sponsors\, and more as we celebrate the House Blessing at 1305 Bunn St on Saturday\, May 11th at 2pm.
URL:https://habitatmclean.org/event/kasongo-family-house-blessing/
LOCATION:1305 Bunn St\, 1305 Bunn St\, Bloomington\, IL\, 61701\, United States
ATTACH;FMTTYPE=image/webp:https://habitatmclean.org/wp-content/uploads/2024/04/23-24-Family-House-Blessings-3.webp
END:VEVENT
END:VCALENDAR