BEGIN:VCALENDAR
VERSION:2.0
PRODID:-//Habitat for Humanity - ECPv6.15.20//NONSGML v1.0//EN
CALSCALE:GREGORIAN
METHOD:PUBLISH
X-ORIGINAL-URL:https://habitatmclean.org
X-WR-CALDESC:Events for Habitat for Humanity
REFRESH-INTERVAL;VALUE=DURATION:PT1H
X-Robots-Tag:noindex
X-PUBLISHED-TTL:PT1H
BEGIN:VTIMEZONE
TZID:America/Chicago
BEGIN:DAYLIGHT
TZOFFSETFROM:-0600
TZOFFSETTO:-0500
TZNAME:CDT
DTSTART:20220313T080000
END:DAYLIGHT
BEGIN:STANDARD
TZOFFSETFROM:-0500
TZOFFSETTO:-0600
TZNAME:CST
DTSTART:20221106T070000
END:STANDARD
BEGIN:DAYLIGHT
TZOFFSETFROM:-0600
TZOFFSETTO:-0500
TZNAME:CDT
DTSTART:20230312T080000
END:DAYLIGHT
BEGIN:STANDARD
TZOFFSETFROM:-0500
TZOFFSETTO:-0600
TZNAME:CST
DTSTART:20231105T070000
END:STANDARD
BEGIN:DAYLIGHT
TZOFFSETFROM:-0600
TZOFFSETTO:-0500
TZNAME:CDT
DTSTART:20240310T080000
END:DAYLIGHT
BEGIN:STANDARD
TZOFFSETFROM:-0500
TZOFFSETTO:-0600
TZNAME:CST
DTSTART:20241103T070000
END:STANDARD
BEGIN:DAYLIGHT
TZOFFSETFROM:-0600
TZOFFSETTO:-0500
TZNAME:CDT
DTSTART:20250309T080000
END:DAYLIGHT
BEGIN:STANDARD
TZOFFSETFROM:-0500
TZOFFSETTO:-0600
TZNAME:CST
DTSTART:20251102T070000
END:STANDARD
END:VTIMEZONE
BEGIN:VEVENT
DTSTART;TZID=America/Chicago:20240928T120000
DTEND;TZID=America/Chicago:20240928T150000
DTSTAMP:20260423T123256
CREATED:20240731T031109Z
LAST-MODIFIED:20240731T031109Z
UID:10000024-1727524800-1727535600@habitatmclean.org
SUMMARY:Cornhole at the Corn Crib
DESCRIPTION:Join Snyder Insurance for the 2nd annual Cornhole at the Corn Crib! With bags\, beer\, food & the ballpark\, this is sure to be an excellent event. \nAfter a guaranteed 4 games there will be cash payouts for the competitive league & lots of fun prizes for the recreational division. All proceeds will help Habitat McLean County build more affordable housing. \n**REGISTRATION starts at NOON** \nBags fly at 1pm!
URL:https://habitatmclean.org/event/cornhole-at-the-corn-crib/
LOCATION:Corn Crib\, 1000 West Raab Road\, Normal\, IL\, 61761\, United States
ATTACH;FMTTYPE=image/jpeg:https://habitatmclean.org/wp-content/uploads/2024/07/Cornhole.jpg
ORGANIZER;CN="Snyder Insurance":MAILTO:info@insurewithsnyder.com
END:VEVENT
BEGIN:VEVENT
DTSTART;VALUE=DATE:20230923
DTEND;VALUE=DATE:20230924
DTSTAMP:20260423T123256
CREATED:20230721T191442Z
LAST-MODIFIED:20230721T191442Z
UID:10000008-1695427200-1695513599@habitatmclean.org
SUMMARY:Corn Hole at the Corn Crib
DESCRIPTION:Music! Craft Beer! Cornhole!\n\nJoin us\, Saturday\, September 23rd\, for the first ever Cornhole Competition hosted at the Corn Crib. Whether you’re looking for a fun event with friends\, or to win some serious cash – there is plenty to go around.\n\nWith the top tier payout at $1000* & a guaranteed 4 games\, you will also receive free entry to the craft beer fest: Brews & Grooves on the concourse.\n\nAll proceeds are to benefit the Habitat for Humanity of McLean County.\n\nJoin us to help support our local community\, have some fun\, and prove to your friends that you really are awesome at cornhole!\n\n**Stay tuned on registration details as we get closer to the event.**\n*Payout based on minimum entry of 75 teams.
URL:https://habitatmclean.org/event/corn-hole-at-the-corn-crib/
LOCATION:Corn Crib\, 1000 West Raab Road\, Normal\, IL\, 61761\, United States
CATEGORIES:events
ATTACH;FMTTYPE=image/jpeg:https://habitatmclean.org/wp-content/uploads/2023/07/360102537_701570085315964_1043568828683354549_n.jpg
ORGANIZER;CN="Snyder Insurance":MAILTO:info@insurewithsnyder.com
END:VEVENT
END:VCALENDAR