BEGIN:VCALENDAR
VERSION:2.0
PRODID:-//Habitat for Humanity - ECPv6.15.20//NONSGML v1.0//EN
CALSCALE:GREGORIAN
METHOD:PUBLISH
X-WR-CALNAME:Habitat for Humanity
X-ORIGINAL-URL:https://habitatmclean.org
X-WR-CALDESC:Events for Habitat for Humanity
REFRESH-INTERVAL;VALUE=DURATION:PT1H
X-Robots-Tag:noindex
X-PUBLISHED-TTL:PT1H
BEGIN:VTIMEZONE
TZID:America/Chicago
BEGIN:DAYLIGHT
TZOFFSETFROM:-0600
TZOFFSETTO:-0500
TZNAME:CDT
DTSTART:20220313T080000
END:DAYLIGHT
BEGIN:STANDARD
TZOFFSETFROM:-0500
TZOFFSETTO:-0600
TZNAME:CST
DTSTART:20221106T070000
END:STANDARD
BEGIN:DAYLIGHT
TZOFFSETFROM:-0600
TZOFFSETTO:-0500
TZNAME:CDT
DTSTART:20230312T080000
END:DAYLIGHT
BEGIN:STANDARD
TZOFFSETFROM:-0500
TZOFFSETTO:-0600
TZNAME:CST
DTSTART:20231105T070000
END:STANDARD
BEGIN:DAYLIGHT
TZOFFSETFROM:-0600
TZOFFSETTO:-0500
TZNAME:CDT
DTSTART:20240310T080000
END:DAYLIGHT
BEGIN:STANDARD
TZOFFSETFROM:-0500
TZOFFSETTO:-0600
TZNAME:CST
DTSTART:20241103T070000
END:STANDARD
BEGIN:DAYLIGHT
TZOFFSETFROM:-0600
TZOFFSETTO:-0500
TZNAME:CDT
DTSTART:20250309T080000
END:DAYLIGHT
BEGIN:STANDARD
TZOFFSETFROM:-0500
TZOFFSETTO:-0600
TZNAME:CST
DTSTART:20251102T070000
END:STANDARD
END:VTIMEZONE
BEGIN:VEVENT
DTSTART;VALUE=DATE:20240725
DTEND;VALUE=DATE:20240903
DTSTAMP:20260425T062204
CREATED:20240726T045352Z
LAST-MODIFIED:20240726T045352Z
UID:10000023-1721865600-1725321599@habitatmclean.org
SUMMARY:Women Build Mum Sales
DESCRIPTION:Women Build is having their annual Mum Sale! Ordering is now open. \nCLICK HERE TO PLACE YOUR ORDER. \n﻿Fresh mums from a local grower are 10″ pots with an approximate 17-18″ flower head. \n$19 Each \nAvailable in 5 colors: red\, white\, orange\, purple\, and yellow. (As with all live plants\, expect some variation within each color.) \nOrders are pre-paid online with a credit card. \nMum pick up is Monday\, Sept 9th at the ReStore (1402 W Washington\, Bloomington) ONLY FROM 3-6PM! \nIf you are not available on Sept 9th\, please give your sales confirmation email to the person picking up for you.
URL:https://habitatmclean.org/event/women-build-mum-sales/
LOCATION:IL
ATTACH;FMTTYPE=image/jpeg:https://habitatmclean.org/wp-content/uploads/2024/07/WBMum2024-scaled.jpg
END:VEVENT
BEGIN:VEVENT
DTSTART;TZID=America/Chicago:20230813T150000
DTEND;TZID=America/Chicago:20230813T180000
DTSTAMP:20260425T062204
CREATED:20230613T184439Z
LAST-MODIFIED:20230613T184439Z
UID:10000005-1691938800-1691949600@habitatmclean.org
SUMMARY:Women Build 20th Anniversary Party
DESCRIPTION:Habitat for Humanity of McLean County’s Women Build is celebrating its 20th Anniversary \n\nLive music\nDoor prizes\nRaffle for $500\nOpportunity to meet Women Build’s partner families\nKids are free\nRegistration includes a raffle entry\nFood available for purchase\n\nClick Here to Purchase Tickets
URL:https://habitatmclean.org/event/women-build-20th-anniversary-party/
LOCATION:Casper Brewing\, 3807 Ballybunion\, Bloomington\, IL\, 61704\, United States
CATEGORIES:events
ATTACH;FMTTYPE=image/png:https://habitatmclean.org/wp-content/uploads/2023/06/WB-20th-Anniversary-Banner.png
END:VEVENT
END:VCALENDAR