BEGIN:VCALENDAR
VERSION:2.0
PRODID:-//Habitat for Humanity - ECPv6.15.20//NONSGML v1.0//EN
CALSCALE:GREGORIAN
METHOD:PUBLISH
X-ORIGINAL-URL:https://habitatmclean.org
X-WR-CALDESC:Events for Habitat for Humanity
REFRESH-INTERVAL;VALUE=DURATION:PT1H
X-Robots-Tag:noindex
X-PUBLISHED-TTL:PT1H
BEGIN:VTIMEZONE
TZID:America/Chicago
BEGIN:DAYLIGHT
TZOFFSETFROM:-0600
TZOFFSETTO:-0500
TZNAME:CDT
DTSTART:20220313T080000
END:DAYLIGHT
BEGIN:STANDARD
TZOFFSETFROM:-0500
TZOFFSETTO:-0600
TZNAME:CST
DTSTART:20221106T070000
END:STANDARD
BEGIN:DAYLIGHT
TZOFFSETFROM:-0600
TZOFFSETTO:-0500
TZNAME:CDT
DTSTART:20230312T080000
END:DAYLIGHT
BEGIN:STANDARD
TZOFFSETFROM:-0500
TZOFFSETTO:-0600
TZNAME:CST
DTSTART:20231105T070000
END:STANDARD
BEGIN:DAYLIGHT
TZOFFSETFROM:-0600
TZOFFSETTO:-0500
TZNAME:CDT
DTSTART:20240310T080000
END:DAYLIGHT
BEGIN:STANDARD
TZOFFSETFROM:-0500
TZOFFSETTO:-0600
TZNAME:CST
DTSTART:20241103T070000
END:STANDARD
END:VTIMEZONE
BEGIN:VEVENT
DTSTART;VALUE=DATE:20231128
DTEND;VALUE=DATE:20231129
DTSTAMP:20260425T060528
CREATED:20231024T183827Z
LAST-MODIFIED:20231024T183936Z
UID:10000012-1701129600-1701215999@habitatmclean.org
SUMMARY:Giving Tuesday
DESCRIPTION:#givewhereyoulive\nThis Giving Tuesday\, we encourage you to give locally to make a difference in McLean County! \nDecent shelter is something we all need to thrive. Habitat for Humanity of McLean County partners with local families to build strength\, stability\, and self-reliance through shelter. In 2024\, Habitat McLean County hopes to construct its 200th affordable home right here in our community. That is 200 families that Habitat has partnered with to achieve their goal of owning a home and creating a brighter future for themselves and their children. \nJoin us in strengthening our community! Together\, we can raise $200\,000 for the 200th home. \nDONATE NOW
URL:https://habitatmclean.org/event/giving-tuesday/
CATEGORIES:events
ATTACH;FMTTYPE=image/png:https://habitatmclean.org/wp-content/uploads/2023/10/200-for-200-Banner-Ideas-1.png
END:VEVENT
END:VCALENDAR